BEGIN:VCALENDAR
VERSION:2.0
PRODID:-//The LA Fed - ECPv6.0.0//NONSGML v1.0//EN
CALSCALE:GREGORIAN
METHOD:PUBLISH
X-WR-CALNAME:The LA Fed
X-ORIGINAL-URL:https://thelafed.org
X-WR-CALDESC:Events for The LA Fed
REFRESH-INTERVAL;VALUE=DURATION:PT1H
X-Robots-Tag:noindex
X-PUBLISHED-TTL:PT1H
BEGIN:VTIMEZONE
TZID:America/Los_Angeles
BEGIN:DAYLIGHT
TZOFFSETFROM:-0800
TZOFFSETTO:-0700
TZNAME:PDT
DTSTART:20200308T100000
END:DAYLIGHT
BEGIN:STANDARD
TZOFFSETFROM:-0700
TZOFFSETTO:-0800
TZNAME:PST
DTSTART:20201101T090000
END:STANDARD
END:VTIMEZONE
BEGIN:VEVENT
DTSTART;TZID=America/Los_Angeles:20201021T080000
DTEND;TZID=America/Los_Angeles:20201021T100000
DTSTAMP:20260422T030017
CREATED:20201021T003612Z
LAST-MODIFIED:20201021T003612Z
UID:772-1603267200-1603274400@thelafed.org
SUMMARY:#CouncilsNotCOVID: Die-In for Public Health Councils
DESCRIPTION:The Los Angeles County  Board of Supervisors can vote to implement Public Health Councils as soon as October 27th. Join us in front of the Board of Supervisors’ office to tell them we won’t wait for more people to die. We can and should stop the spread now!
URL:https://thelafed.org/event/councilsnotcovid-die-in/
LOCATION:Los Angeles County Board of Supervisors\, 500 W. Temple Street\, Los Angeles\, CA\, 90012\, United States
CATEGORIES:Action
ATTACH;FMTTYPE=image/jpeg:https://thelafed.org/app/uploads/2020/10/PHC_Die_In-scaled.jpg
ORGANIZER;CN="Los%20Angeles%20County%20Federation%20of%20Labor":MAILTO:uniontown@thelafed.org
GEO:34.0566691;-118.2459011
X-APPLE-STRUCTURED-LOCATION;VALUE=URI;X-ADDRESS=Los Angeles County Board of Supervisors 500 W. Temple Street Los Angeles CA 90012 United States;X-APPLE-RADIUS=500;X-TITLE=500 W. Temple Street:geo:-118.2459011,34.0566691
END:VEVENT
BEGIN:VEVENT
DTSTART;TZID=America/Los_Angeles:20201019T190000
DTEND;TZID=America/Los_Angeles:20201019T210000
DTSTAMP:20260422T030017
CREATED:20201009T164434Z
LAST-MODIFIED:20201215T004742Z
UID:262-1603134000-1603141200@thelafed.org
SUMMARY:House of Labor
DESCRIPTION:House of Labor meetings are official representative meetings for the Los Angeles County Federation of Labor\, currently held on Zoom due to COVID-19 pandemic. \n  \nDue to governance and voting\, only representatives will be allowed to attend and must register with their Representative ID. Representatives will be receiving a separate email and physical mailer with the registration link\, their Representative ID\, and instructions. \n  \nIf you have any questions or have not received an email or physical mailer by one week prior to the meeting\, please contact Denise at denise@thelafed.org.
URL:https://thelafed.org/event/oct2020-hol/
LOCATION:Zoom
CATEGORIES:Meeting
ORGANIZER;CN="Los%20Angeles%20County%20Federation%20of%20Labor":MAILTO:uniontown@thelafed.org
END:VEVENT
END:VCALENDAR